BEGIN:VCALENDAR
VERSION:2.0
PRODID:-//Siaaic - ECPv6.2.0.1//NONSGML v1.0//EN
CALSCALE:GREGORIAN
METHOD:PUBLISH
X-ORIGINAL-URL:https://siaaic.org
X-WR-CALDESC:Eventi per Siaaic
REFRESH-INTERVAL;VALUE=DURATION:PT1H
X-Robots-Tag:noindex
X-PUBLISHED-TTL:PT1H
BEGIN:VTIMEZONE
TZID:Europe/Rome
BEGIN:DAYLIGHT
TZOFFSETFROM:+0100
TZOFFSETTO:+0200
TZNAME:CEST
DTSTART:20160327T010000
END:DAYLIGHT
BEGIN:STANDARD
TZOFFSETFROM:+0200
TZOFFSETTO:+0100
TZNAME:CET
DTSTART:20161030T010000
END:STANDARD
END:VTIMEZONE
BEGIN:VEVENT
DTSTART;VALUE=DATE:20160923
DTEND;VALUE=DATE:20160925
DTSTAMP:20260426T031030
CREATED:20160617T171843Z
LAST-MODIFIED:20160617T171843Z
UID:2391-1474588800-1474761599@siaaic.org
SUMMARY:GET2GETHER AIT Ed. III
DESCRIPTION:
URL:https://siaaic.org/event/get2gether-ait-ed-iii/
CATEGORIES:EVENTI SIAAIC
END:VEVENT
END:VCALENDAR