BEGIN:VCALENDAR
VERSION:2.0
PRODID:-//Siaaic - ECPv6.2.0.1//NONSGML v1.0//EN
CALSCALE:GREGORIAN
METHOD:PUBLISH
X-ORIGINAL-URL:https://siaaic.org
X-WR-CALDESC:Eventi per Siaaic
REFRESH-INTERVAL;VALUE=DURATION:PT1H
X-Robots-Tag:noindex
X-PUBLISHED-TTL:PT1H
BEGIN:VTIMEZONE
TZID:Europe/Rome
BEGIN:DAYLIGHT
TZOFFSETFROM:+0100
TZOFFSETTO:+0200
TZNAME:CEST
DTSTART:20160327T010000
END:DAYLIGHT
BEGIN:STANDARD
TZOFFSETFROM:+0200
TZOFFSETTO:+0100
TZNAME:CET
DTSTART:20161030T010000
END:STANDARD
END:VTIMEZONE
BEGIN:VEVENT
DTSTART;VALUE=DATE:20161111
DTEND;VALUE=DATE:20161113
DTSTAMP:20260426T000748
CREATED:20160708T145854Z
LAST-MODIFIED:20160708T145854Z
UID:2676-1478822400-1478995199@siaaic.org
SUMMARY:XXXII CONGRESSO SEZIONE SIAAIC TOSCANA
DESCRIPTION:
URL:https://siaaic.org/event/xxxii-congresso-sezione-siaaic-toscana/
CATEGORIES:EVENTI SIAAIC
END:VEVENT
BEGIN:VEVENT
DTSTART;VALUE=DATE:20161111
DTEND;VALUE=DATE:20161113
DTSTAMP:20260426T000748
CREATED:20160720T183832Z
LAST-MODIFIED:20160720T183832Z
UID:2708-1478822400-1478995199@siaaic.org
SUMMARY:XXXII Congresso Sezione SIAAIC Toscana
DESCRIPTION:
URL:https://siaaic.org/event/xxxii-congresso-sezione-siaaic-toscana-2/
CATEGORIES:MEETING SERIES E CONGRESSI SEZIONI REGIONALI
END:VEVENT
BEGIN:VEVENT
DTSTART;VALUE=DATE:20161111
DTEND;VALUE=DATE:20161113
DTSTAMP:20260426T000748
CREATED:20160720T183924Z
LAST-MODIFIED:20160720T183924Z
UID:2709-1478822400-1478995199@siaaic.org
SUMMARY:XI Congresso Sezione SIAAIC Toscana\, Emilia Romagna e San Marino
DESCRIPTION:
URL:https://siaaic.org/event/xi-congresso-sezione-siaaic-toscana-emilia-romagna-e-san-marino/
CATEGORIES:MEETING SERIES E CONGRESSI SEZIONI REGIONALI
END:VEVENT
BEGIN:VEVENT
DTSTART;VALUE=DATE:20161111
DTEND;VALUE=DATE:20161113
DTSTAMP:20260426T000748
CREATED:20160720T184002Z
LAST-MODIFIED:20160720T184002Z
UID:2710-1478822400-1478995199@siaaic.org
SUMMARY:IV Congresso Sezione SIAAIC Umbria e Marche
DESCRIPTION:
URL:https://siaaic.org/event/iv-congresso-sezione-siaaic-umbria-e-marche/
END:VEVENT
END:VCALENDAR