BEGIN:VCALENDAR
VERSION:2.0
PRODID:-//Siaaic - ECPv6.2.0.1//NONSGML v1.0//EN
CALSCALE:GREGORIAN
METHOD:PUBLISH
X-ORIGINAL-URL:https://siaaic.org
X-WR-CALDESC:Eventi per Siaaic
REFRESH-INTERVAL;VALUE=DURATION:PT1H
X-Robots-Tag:noindex
X-PUBLISHED-TTL:PT1H
BEGIN:VTIMEZONE
TZID:Europe/Rome
BEGIN:DAYLIGHT
TZOFFSETFROM:+0100
TZOFFSETTO:+0200
TZNAME:CEST
DTSTART:20170326T010000
END:DAYLIGHT
BEGIN:STANDARD
TZOFFSETFROM:+0200
TZOFFSETTO:+0100
TZNAME:CET
DTSTART:20171029T010000
END:STANDARD
END:VTIMEZONE
BEGIN:VEVENT
DTSTART;VALUE=DATE:20170406
DTEND;VALUE=DATE:20170410
DTSTAMP:20260425T163328
CREATED:20160617T165751Z
LAST-MODIFIED:20160617T165751Z
UID:2379-1491436800-1491782399@siaaic.org
SUMMARY:XXX Congresso Nazionale SIAAIC
DESCRIPTION:
URL:https://siaaic.org/event/xxx-congresso-nazionale-siaaic/
CATEGORIES:EVENTI SIAAIC
END:VEVENT
END:VCALENDAR