BEGIN:VCALENDAR
VERSION:2.0
PRODID:-//Siaaic - ECPv6.2.0.1//NONSGML v1.0//EN
CALSCALE:GREGORIAN
METHOD:PUBLISH
X-ORIGINAL-URL:https://siaaic.org
X-WR-CALDESC:Eventi per Siaaic
REFRESH-INTERVAL;VALUE=DURATION:PT1H
X-Robots-Tag:noindex
X-PUBLISHED-TTL:PT1H
BEGIN:VTIMEZONE
TZID:Europe/Rome
BEGIN:DAYLIGHT
TZOFFSETFROM:+0100
TZOFFSETTO:+0200
TZNAME:CEST
DTSTART:20170326T010000
END:DAYLIGHT
BEGIN:STANDARD
TZOFFSETFROM:+0200
TZOFFSETTO:+0100
TZNAME:CET
DTSTART:20171029T010000
END:STANDARD
END:VTIMEZONE
BEGIN:VEVENT
DTSTART;TZID=Europe/Rome:20171201T080000
DTEND;TZID=Europe/Rome:20171202T170000
DTSTAMP:20260425T032638
CREATED:20171117T153104Z
LAST-MODIFIED:20171117T153104Z
UID:3692-1512115200-1512234000@siaaic.org
SUMMARY:Congresso  Siaaic sez. Sardegna
DESCRIPTION:INFORMAZIONI: \nPresidente del Congresso: Prof. Stefano Del Giacco \nSede Congressuale: Convento San Giuseppe – Via Paracelso\, Cagliari \nSegreteria Scientifica:\nProf. Stefano Del Giacco: stedg@medicina.unica.it\nDr. Davide Firinu: davidefirinu@yahoo.it \nSegreteria Organizzativa: \nSARDINIA COCS\, Cagliari – sardiniacocs@tiscali.it \nPROGRAMMA SCIENTIFICO (cliccare per visualizzare) \nECM: \nIl Congresso assegna 12 crediti ECM ed è accreditato per le seguenti categorie: Medico Chirurgo\, Biologo\, Infermiere\, Tecnico di Laboratorio \nPer gli Studenti di Medicina e Infermieristica\, il congresso assegnerà 1 credito. E’ prevista l’iscrizione sino ad un massimo di 50 Studenti (eventuali eccedenze saranno inserite in “lista d’attesa”) \nISCRIZIONI: \nL’iscrizione è gratuita e i crediti ECM saranno garantiti solo ai primi 100 iscritti. Comprende la partecipazione ai lavori e ai tavoli\, le pause caffè e the e il pranzo a buffet. \nPer informazioni\, inviare una mail alla Segreteria Organizzativa all’indirizzo: sardiniacocs@tiscali.it \nScarica la scheda di adesione da qui
URL:https://siaaic.org/event/congresso-siaaic-sez-sardegna/
CATEGORIES:MEETING SERIES E CONGRESSI SEZIONI REGIONALI
END:VEVENT
END:VCALENDAR