BEGIN:VCALENDAR
VERSION:2.0
PRODID:-//Siaaic - ECPv6.2.0.1//NONSGML v1.0//EN
CALSCALE:GREGORIAN
METHOD:PUBLISH
X-ORIGINAL-URL:https://siaaic.org
X-WR-CALDESC:Eventi per Siaaic
REFRESH-INTERVAL;VALUE=DURATION:PT1H
X-Robots-Tag:noindex
X-PUBLISHED-TTL:PT1H
BEGIN:VTIMEZONE
TZID:Europe/Rome
BEGIN:DAYLIGHT
TZOFFSETFROM:+0100
TZOFFSETTO:+0200
TZNAME:CEST
DTSTART:20180325T010000
END:DAYLIGHT
BEGIN:STANDARD
TZOFFSETFROM:+0200
TZOFFSETTO:+0100
TZNAME:CET
DTSTART:20181028T010000
END:STANDARD
END:VTIMEZONE
BEGIN:VEVENT
DTSTART;VALUE=DATE:20181004
DTEND;VALUE=DATE:20181007
DTSTAMP:20260424T112845
CREATED:20180117T182526Z
LAST-MODIFIED:20180117T182526Z
UID:3780-1538611200-1538870399@siaaic.org
SUMMARY:INCONTRO DELLE SCUOLE DI SPECIALIZZAZIONE IN ALLERGOLOGIA ED IMMUNOLOGIA CLINICA VIII Edizione.
DESCRIPTION:
URL:https://siaaic.org/event/incontro-delle-scuole-di-specializzazione-in-allergologia-ed-immunologia-clinica-viii-edizione/
CATEGORIES:MEETING SERIES E CONGRESSI SEZIONI REGIONALI
END:VEVENT
BEGIN:VEVENT
DTSTART;VALUE=DATE:20181006
DTEND;VALUE=DATE:20181007
DTSTAMP:20260424T112845
CREATED:20171129T200950Z
LAST-MODIFIED:20171129T200950Z
UID:3707-1538784000-1538870399@siaaic.org
SUMMARY:7° Points on Allergy
DESCRIPTION:
URL:https://siaaic.org/event/7-points-on-allergy/
CATEGORIES:MEETING SERIES E CONGRESSI SEZIONI REGIONALI
END:VEVENT
END:VCALENDAR