BEGIN:VCALENDAR
VERSION:2.0
PRODID:-//Siaaic - ECPv6.2.0.1//NONSGML v1.0//EN
CALSCALE:GREGORIAN
METHOD:PUBLISH
X-ORIGINAL-URL:https://siaaic.org
X-WR-CALDESC:Eventi per Siaaic
REFRESH-INTERVAL;VALUE=DURATION:PT1H
X-Robots-Tag:noindex
X-PUBLISHED-TTL:PT1H
BEGIN:VTIMEZONE
TZID:Europe/Rome
BEGIN:DAYLIGHT
TZOFFSETFROM:+0100
TZOFFSETTO:+0200
TZNAME:CEST
DTSTART:20180325T010000
END:DAYLIGHT
BEGIN:STANDARD
TZOFFSETFROM:+0200
TZOFFSETTO:+0100
TZNAME:CET
DTSTART:20181028T010000
END:STANDARD
END:VTIMEZONE
BEGIN:VEVENT
DTSTART;TZID=Europe/Rome:20181019T080000
DTEND;TZID=Europe/Rome:20181020T170000
DTSTAMP:20260424T112920
CREATED:20171113T130152Z
LAST-MODIFIED:20171113T130152Z
UID:3667-1539936000-1540054800@siaaic.org
SUMMARY:SAVE THE DATE: DIFFICULT ALLERGY DAY ASMA VENETO 3.0
DESCRIPTION:CLICCARE PER SCARICARE IL SAVE THE DATE \nCOORDINATORI\nC. Lunardi\, D. Marchioni\nA. Poli\, A. Rossi\, G. Senna \nCOMITATO SCIENTIFICO\nP. Bonadonna\, M. Caminati\nF. Chieco-Bianchi\, M. Crivellaro\nA. Dama\, M. Ferrari\nG. Festi\, C. Fusari\nC. Lombardo\, C. Micheletto\nE. Olivieri\, M. Olivieri\nG. Piacentini\, M. Schiappoli\nG. Stefanizzi\, S. Tognella\nA. Vianello\, G. Zanoni \nSEGRETERIA ORGANIZZATIVA E PROVIDER E.C.M. id. n. 555\niDea congress\nPiazza Giovanni Randaccio\, 1 – 00195 Roma\nTel. 06 36381573 – Fax 06 36307682\ninfo@ideacpa.com – www.ideacpa.com
URL:https://siaaic.org/event/save-the-date-difficult-allergy-day-asma-veneto-3-0/
CATEGORIES:EVENTI SIAAIC
ATTACH;FMTTYPE=:
END:VEVENT
END:VCALENDAR