BEGIN:VCALENDAR
VERSION:2.0
PRODID:-//Siaaic - ECPv6.2.0.1//NONSGML v1.0//EN
CALSCALE:GREGORIAN
METHOD:PUBLISH
X-ORIGINAL-URL:https://siaaic.org
X-WR-CALDESC:Eventi per Siaaic
REFRESH-INTERVAL;VALUE=DURATION:PT1H
X-Robots-Tag:noindex
X-PUBLISHED-TTL:PT1H
BEGIN:VTIMEZONE
TZID:Europe/Rome
BEGIN:DAYLIGHT
TZOFFSETFROM:+0100
TZOFFSETTO:+0200
TZNAME:CEST
DTSTART:20200329T010000
END:DAYLIGHT
BEGIN:STANDARD
TZOFFSETFROM:+0200
TZOFFSETTO:+0100
TZNAME:CET
DTSTART:20201025T010000
END:STANDARD
END:VTIMEZONE
BEGIN:VEVENT
DTSTART;VALUE=DATE:20200424
DTEND;VALUE=DATE:20200425
DTSTAMP:20260421T063006
CREATED:20200416T082144Z
LAST-MODIFIED:20200416T082144Z
UID:4810-1587686400-1587772799@siaaic.org
SUMMARY:L’allergologia e l’immunologia clinica ai tempi del corona virus” -  Ruolo del genere nell'infezione da SARS-CoV-2 PROF.SSA P. PARRONCHI
DESCRIPTION:
URL:https://siaaic.org/event/lallergologia-e-limmunologia-clinica-ai-tempi-del-corona-virus-ruolo-del-genere-nellinfezione-da-sars-cov-2-prof-ssa-p-parronchi/
CATEGORIES:WEBINAR
END:VEVENT
END:VCALENDAR