BEGIN:VCALENDAR
VERSION:2.0
PRODID:-//Siaaic - ECPv6.2.0.1//NONSGML v1.0//EN
CALSCALE:GREGORIAN
METHOD:PUBLISH
X-WR-CALNAME:Siaaic
X-ORIGINAL-URL:https://siaaic.org
X-WR-CALDESC:Eventi per Siaaic
REFRESH-INTERVAL;VALUE=DURATION:PT1H
X-Robots-Tag:noindex
X-PUBLISHED-TTL:PT1H
BEGIN:VTIMEZONE
TZID:Europe/Rome
BEGIN:DAYLIGHT
TZOFFSETFROM:+0100
TZOFFSETTO:+0200
TZNAME:CEST
DTSTART:20200329T010000
END:DAYLIGHT
BEGIN:STANDARD
TZOFFSETFROM:+0200
TZOFFSETTO:+0100
TZNAME:CET
DTSTART:20201025T010000
END:STANDARD
END:VTIMEZONE
BEGIN:VEVENT
DTSTART;VALUE=DATE:20200514
DTEND;VALUE=DATE:20200515
DTSTAMP:20260421T044032
CREATED:20200512T070648Z
LAST-MODIFIED:20200512T070648Z
UID:5212-1589414400-1589500799@siaaic.org
SUMMARY:ASMA E COVID-19 - La gestione del paziente allergico
DESCRIPTION:pdf ASMA e COVID-1_200507 linkato
URL:https://siaaic.org/event/asma-e-covid-19-la-gestione-del-paziente-allergico/
CATEGORIES:WEBINAR
END:VEVENT
END:VCALENDAR