BEGIN:VCALENDAR
VERSION:2.0
PRODID:-//Siaaic - ECPv6.2.0.1//NONSGML v1.0//EN
CALSCALE:GREGORIAN
METHOD:PUBLISH
X-ORIGINAL-URL:https://siaaic.org
X-WR-CALDESC:Eventi per Siaaic
REFRESH-INTERVAL;VALUE=DURATION:PT1H
X-Robots-Tag:noindex
X-PUBLISHED-TTL:PT1H
BEGIN:VTIMEZONE
TZID:Europe/Rome
BEGIN:DAYLIGHT
TZOFFSETFROM:+0100
TZOFFSETTO:+0200
TZNAME:CEST
DTSTART:20210328T010000
END:DAYLIGHT
BEGIN:STANDARD
TZOFFSETFROM:+0200
TZOFFSETTO:+0100
TZNAME:CET
DTSTART:20211031T010000
END:STANDARD
END:VTIMEZONE
BEGIN:VEVENT
DTSTART;TZID=Europe/Rome:20210624T180000
DTEND;TZID=Europe/Rome:20210624T190000
DTSTAMP:20260419T235046
CREATED:20210603T082701Z
LAST-MODIFIED:20210603T082701Z
UID:6270-1624557600-1624561200@siaaic.org
SUMMARY:ESOFAGITE EOSINOFILA\, DALLA DIAGNOSI ALLA TERAPIA
DESCRIPTION:
URL:https://siaaic.org/event/esofagite-eosinofila-dalla-diagnosi-alla-terapia/
CATEGORIES:WEBINAR
ATTACH;FMTTYPE=:
END:VEVENT
END:VCALENDAR