BEGIN:VCALENDAR
VERSION:2.0
PRODID:-//Siaaic - ECPv6.2.0.1//NONSGML v1.0//EN
CALSCALE:GREGORIAN
METHOD:PUBLISH
X-WR-CALNAME:Siaaic
X-ORIGINAL-URL:https://siaaic.org
X-WR-CALDESC:Eventi per Siaaic
REFRESH-INTERVAL;VALUE=DURATION:PT1H
X-Robots-Tag:noindex
X-PUBLISHED-TTL:PT1H
BEGIN:VTIMEZONE
TZID:Europe/Rome
BEGIN:DAYLIGHT
TZOFFSETFROM:+0100
TZOFFSETTO:+0200
TZNAME:CEST
DTSTART:20220327T010000
END:DAYLIGHT
BEGIN:STANDARD
TZOFFSETFROM:+0200
TZOFFSETTO:+0100
TZNAME:CET
DTSTART:20221030T010000
END:STANDARD
END:VTIMEZONE
BEGIN:VEVENT
DTSTART;TZID=Europe/Rome:20220203T163000
DTEND;TZID=Europe/Rome:20220203T193000
DTSTAMP:20260424T050046
CREATED:20211223T144323Z
LAST-MODIFIED:20211223T144323Z
UID:6748-1643905800-1643916600@siaaic.org
SUMMARY:IMMUNITY FORM BENCH TO BEDSIDE
DESCRIPTION:SCARICA IL PROGRAMMA > \nIMMUNITY-2022
URL:https://siaaic.org/event/immunity-form-bench-to-bedside-2/
CATEGORIES:EVENTI SIAAIC,WEBINAR
END:VEVENT
END:VCALENDAR