BEGIN:VCALENDAR
VERSION:2.0
PRODID:-//Siaaic - ECPv6.2.0.1//NONSGML v1.0//EN
CALSCALE:GREGORIAN
METHOD:PUBLISH
X-ORIGINAL-URL:https://siaaic.org
X-WR-CALDESC:Eventi per Siaaic
REFRESH-INTERVAL;VALUE=DURATION:PT1H
X-Robots-Tag:noindex
X-PUBLISHED-TTL:PT1H
BEGIN:VTIMEZONE
TZID:Europe/Paris
BEGIN:DAYLIGHT
TZOFFSETFROM:+0100
TZOFFSETTO:+0200
TZNAME:CEST
DTSTART:20230326T010000
END:DAYLIGHT
BEGIN:STANDARD
TZOFFSETFROM:+0200
TZOFFSETTO:+0100
TZNAME:CET
DTSTART:20231029T010000
END:STANDARD
BEGIN:DAYLIGHT
TZOFFSETFROM:+0100
TZOFFSETTO:+0200
TZNAME:CEST
DTSTART:20240331T010000
END:DAYLIGHT
BEGIN:STANDARD
TZOFFSETFROM:+0200
TZOFFSETTO:+0100
TZNAME:CET
DTSTART:20241027T010000
END:STANDARD
END:VTIMEZONE
BEGIN:VEVENT
DTSTART;TZID=Europe/Paris:20230909T080000
DTEND;TZID=Europe/Paris:20230909T170000
DTSTAMP:20260424T021112
CREATED:20230927T131407Z
LAST-MODIFIED:20230927T131407Z
UID:12178-1694246400-1694278800@siaaic.org
SUMMARY:L’Albero Respiratorio
DESCRIPTION:
URL:https://siaaic.org/event/lalbero-respiratorio/
LOCATION:GRAND HOTEL MATTEI\, Via Enrico Mattei\, Ravenna\, Italia
CATEGORIES:MEETING SERIES E CONGRESSI SEZIONI REGIONALI
END:VEVENT
BEGIN:VEVENT
DTSTART;VALUE=DATE:20230930
DTEND;VALUE=DATE:20231001
DTSTAMP:20260424T021112
CREATED:20230825T093402Z
LAST-MODIFIED:20230825T093402Z
UID:12041-1696032000-1696118399@siaaic.org
SUMMARY:Congresso SIAAIC Sardegna
DESCRIPTION:23-09-30 brochure
URL:https://siaaic.org/event/congresso-siaaic-sardegna/
LOCATION:Hotel Regina Margherita\, Cagliari\, V.le Regina Margherita\, 44\, Cagliari\, 09124\, Italia
CATEGORIES:MEETING SERIES E CONGRESSI SEZIONI REGIONALI
END:VEVENT
BEGIN:VEVENT
DTSTART;TZID=Europe/Paris:20231006T080000
DTEND;TZID=Europe/Paris:20231007T170000
DTSTAMP:20260424T021112
CREATED:20230901T175513Z
LAST-MODIFIED:20230901T175513Z
UID:12089-1696579200-1696698000@siaaic.org
SUMMARY:XXXIX Congresso della Sezione Toscana della Società Italiana di Allergologia Asma ed Immunologia Clinica e VII Congresso della Sezione Toscana - Emilia Romagna - San Marino - Umbria - Marche
DESCRIPTION:Sezione Toscana
URL:https://siaaic.org/event/xxxix-congresso-della-sezione-toscana-della-societa-italiana-di-allergologia-asma-ed-immunologia-clinica-e-vii-congresso-della-sezione-toscana-emilia-romagna-san-marino-umbria-marche/
LOCATION:Centro Congressi Nil Hotel\,\, Via Eugenio Barsanti\, 27 A/B\, Firenze\, FI\, 50127
CATEGORIES:MEETING SERIES E CONGRESSI SEZIONI REGIONALI
END:VEVENT
BEGIN:VEVENT
DTSTART;VALUE=DATE:20231014
DTEND;VALUE=DATE:20231015
DTSTAMP:20260424T021112
CREATED:20230901T175757Z
LAST-MODIFIED:20230901T175757Z
UID:12097-1697241600-1697327999@siaaic.org
SUMMARY:Giornate Allergologiche Torinesi 2023 - GIORNATA DELL'ANAFILASSI
DESCRIPTION:PGR_Giornate allergologiche Torinesi 2023 Anafilassi_14ottobre23
URL:https://siaaic.org/event/giornate-allergologiche-torinesi-2023-giornata-dellanafilassi/
LOCATION:STAR HOTEL MAJESTIC\, Torino
CATEGORIES:EVENTI NAZIONALI,MEETING SERIES E CONGRESSI SEZIONI REGIONALI
END:VEVENT
BEGIN:VEVENT
DTSTART;TZID=Europe/Paris:20231117T080000
DTEND;TZID=Europe/Paris:20231118T170000
DTSTAMP:20260424T021112
CREATED:20230927T131253Z
LAST-MODIFIED:20230927T131253Z
UID:12174-1700208000-1700326800@siaaic.org
SUMMARY:Congresso iPed5
DESCRIPTION:Programma iPED 5_Melzo\, 17-18 Novembre 2023 – 17.07
URL:https://siaaic.org/event/congresso-iped5/
LOCATION:PALAZZO TRIVULZIO\, Melzo\, MI\, Italia
CATEGORIES:MEETING SERIES E CONGRESSI SEZIONI REGIONALI
END:VEVENT
BEGIN:VEVENT
DTSTART;TZID=Europe/Paris:20231202T080000
DTEND;TZID=Europe/Paris:20231203T170000
DTSTAMP:20260424T021112
CREATED:20230901T180144Z
LAST-MODIFIED:20230901T180144Z
UID:12107-1701504000-1701622800@siaaic.org
SUMMARY:ALLERGIA AL VELENO DI IMENOTTERI …e non solo / Workshop sulla gestione specialistica delle reazioni avverse a punture di insetti
DESCRIPTION:Allergia veleno imenotteri
URL:https://siaaic.org/event/allergia-al-veleno-di-imenotteri-e-non-solo-workshop-sulla-gestione-specialistica-delle-reazioni-avverse-a-punture-di-insetti/
LOCATION:UOC di Allergologia – P.O. Civitanova Marche\, Via Ginevri\, 1\, Civitanova Marche\, MC\, 62012
CATEGORIES:MEETING SERIES E CONGRESSI SEZIONI REGIONALI
END:VEVENT
BEGIN:VEVENT
DTSTART;TZID=Europe/Paris:20240223T083000
DTEND;TZID=Europe/Paris:20240223T180000
DTSTAMP:20260424T021112
CREATED:20240123T135658Z
LAST-MODIFIED:20240123T140136Z
UID:12508-1708677000-1708711200@siaaic.org
SUMMARY:Diverse facce dell’immunologia: autoimmunità\, immunodeficienze e patologie degli eosinofili
DESCRIPTION:Programma\n  \nLocandina \nModalità d’iscrizione \nScheda registrazione
URL:https://siaaic.org/event/diverse-facce-dellimmunologia-autoimmunita-immunodeficienze-e-patologie-degli-eosinofili/
LOCATION:AULA GIUNCHI “Sapienza” Università di Roma\, Viale Università\, 37\, Roma\, Roma\, Italia
CATEGORIES:MEETING SERIES E CONGRESSI SEZIONI REGIONALI
ORGANIZER;CN="TAGAS%20group%20-%20Ida%20Ludovica%20Serra":MAILTO:onvegnosiaaic2024@gmail.com
END:VEVENT
END:VCALENDAR