BEGIN:VCALENDAR
VERSION:2.0
PRODID:-//Siaaic - ECPv6.2.0.1//NONSGML v1.0//EN
CALSCALE:GREGORIAN
METHOD:PUBLISH
X-WR-CALNAME:Siaaic
X-ORIGINAL-URL:https://siaaic.org
X-WR-CALDESC:Eventi per Siaaic
REFRESH-INTERVAL;VALUE=DURATION:PT1H
X-Robots-Tag:noindex
X-PUBLISHED-TTL:PT1H
BEGIN:VTIMEZONE
TZID:Europe/Rome
BEGIN:DAYLIGHT
TZOFFSETFROM:+0100
TZOFFSETTO:+0200
TZNAME:CEST
DTSTART:20160327T010000
END:DAYLIGHT
BEGIN:STANDARD
TZOFFSETFROM:+0200
TZOFFSETTO:+0100
TZNAME:CET
DTSTART:20161030T010000
END:STANDARD
END:VTIMEZONE
BEGIN:VEVENT
DTSTART;VALUE=DATE:20161104
DTEND;VALUE=DATE:20161106
DTSTAMP:20260425T222049
CREATED:20161102T151629Z
LAST-MODIFIED:20161102T151629Z
UID:2773-1478217600-1478390399@siaaic.org
SUMMARY:Congresso Regionale SIAAIC Sezione Sardegna
DESCRIPTION:
URL:https://siaaic.org/event/congresso-regionale-siaaic-sezione-sardegna/
CATEGORIES:MEETING SERIES E CONGRESSI SEZIONI REGIONALI
END:VEVENT
BEGIN:VEVENT
DTSTART;VALUE=DATE:20161105
DTEND;VALUE=DATE:20161106
DTSTAMP:20260425T222049
CREATED:20160720T183315Z
LAST-MODIFIED:20160720T183315Z
UID:2706-1478304000-1478390399@siaaic.org
SUMMARY:5° POints on Allergy
DESCRIPTION:
URL:https://siaaic.org/event/5-points-on-allergy/
CATEGORIES:MEETING SERIES E CONGRESSI SEZIONI REGIONALI
END:VEVENT
BEGIN:VEVENT
DTSTART;VALUE=DATE:20161111
DTEND;VALUE=DATE:20161113
DTSTAMP:20260425T222049
CREATED:20160708T145854Z
LAST-MODIFIED:20160708T145854Z
UID:2676-1478822400-1478995199@siaaic.org
SUMMARY:XXXII CONGRESSO SEZIONE SIAAIC TOSCANA
DESCRIPTION:
URL:https://siaaic.org/event/xxxii-congresso-sezione-siaaic-toscana/
CATEGORIES:EVENTI SIAAIC
END:VEVENT
BEGIN:VEVENT
DTSTART;VALUE=DATE:20161111
DTEND;VALUE=DATE:20161113
DTSTAMP:20260425T222049
CREATED:20160720T183832Z
LAST-MODIFIED:20160720T183832Z
UID:2708-1478822400-1478995199@siaaic.org
SUMMARY:XXXII Congresso Sezione SIAAIC Toscana
DESCRIPTION:
URL:https://siaaic.org/event/xxxii-congresso-sezione-siaaic-toscana-2/
CATEGORIES:MEETING SERIES E CONGRESSI SEZIONI REGIONALI
END:VEVENT
BEGIN:VEVENT
DTSTART;VALUE=DATE:20161111
DTEND;VALUE=DATE:20161113
DTSTAMP:20260425T222049
CREATED:20160720T183924Z
LAST-MODIFIED:20160720T183924Z
UID:2709-1478822400-1478995199@siaaic.org
SUMMARY:XI Congresso Sezione SIAAIC Toscana\, Emilia Romagna e San Marino
DESCRIPTION:
URL:https://siaaic.org/event/xi-congresso-sezione-siaaic-toscana-emilia-romagna-e-san-marino/
CATEGORIES:MEETING SERIES E CONGRESSI SEZIONI REGIONALI
END:VEVENT
BEGIN:VEVENT
DTSTART;VALUE=DATE:20161111
DTEND;VALUE=DATE:20161113
DTSTAMP:20260425T222049
CREATED:20160720T184002Z
LAST-MODIFIED:20160720T184002Z
UID:2710-1478822400-1478995199@siaaic.org
SUMMARY:IV Congresso Sezione SIAAIC Umbria e Marche
DESCRIPTION:
URL:https://siaaic.org/event/iv-congresso-sezione-siaaic-umbria-e-marche/
END:VEVENT
BEGIN:VEVENT
DTSTART;VALUE=DATE:20161114
DTEND;VALUE=DATE:20161115
DTSTAMP:20260425T222049
CREATED:20160720T182423Z
LAST-MODIFIED:20160720T182423Z
UID:2699-1479081600-1479167999@siaaic.org
SUMMARY:DIFFICULT ALLERGY DAY
DESCRIPTION:
URL:https://siaaic.org/event/difficult-allergy-day/
CATEGORIES:EVENTI NAZIONALI
END:VEVENT
BEGIN:VEVENT
DTSTART;VALUE=DATE:20161117
DTEND;VALUE=DATE:20161120
DTSTAMP:20260425T222049
CREATED:20160720T184535Z
LAST-MODIFIED:20160720T184535Z
UID:2711-1479340800-1479599999@siaaic.org
SUMMARY:HIGHLIGHTS in Allergy and Respiratory Diseases
DESCRIPTION:
URL:https://siaaic.org/event/highlights-in-allergy-and-respiratory-diseases/
CATEGORIES:EVENTI INTERNAZIONALI
END:VEVENT
BEGIN:VEVENT
DTSTART;VALUE=DATE:20161122
DTEND;VALUE=DATE:20161123
DTSTAMP:20260425T222049
CREATED:20160720T180159Z
LAST-MODIFIED:20160720T180159Z
UID:2693-1479772800-1479859199@siaaic.org
SUMMARY:WACI 2016 – Workshop Allergologico Continuo Interdisciplinare
DESCRIPTION:
URL:https://siaaic.org/event/waci-2016-workshop-allergologico-continuo-interdisciplinare-3/
CATEGORIES:MEETING SERIES E CONGRESSI SEZIONI REGIONALI
END:VEVENT
BEGIN:VEVENT
DTSTART;VALUE=DATE:20161125
DTEND;VALUE=DATE:20161126
DTSTAMP:20260425T222049
CREATED:20160720T184729Z
LAST-MODIFIED:20160720T184729Z
UID:2713-1480032000-1480118399@siaaic.org
SUMMARY:5° ALLERGY UP-DATE IN PADUA - Esposoma e Allergia: cambia l’Allergia con i cambiamenti Ambientali?
DESCRIPTION:
URL:https://siaaic.org/event/5-allergy-up-date-in-padua-esposoma-e-allergia-cambia-lallergia-con-i-cambiamenti-ambientali/
CATEGORIES:MEETING SERIES E CONGRESSI SEZIONI REGIONALI
END:VEVENT
BEGIN:VEVENT
DTSTART;VALUE=DATE:20161129
DTEND;VALUE=DATE:20161203
DTSTAMP:20260425T222049
CREATED:20160720T184943Z
LAST-MODIFIED:20160720T184943Z
UID:2715-1480377600-1480723199@siaaic.org
SUMMARY:DAM 19 - 2016 19° CORSO PRATICO FINALIZZATO ALLO SVILUPPO CONTINUO PROFESSIONALE DI ALLERGOLOGIA CLINICA PER MEDICI E INFERMIERI
DESCRIPTION:
URL:https://siaaic.org/event/dam-19-2016-19-corso-pratico-finalizzato-allo-sviluppo-continuo-professionale-di-allergologia-clinica-per-medici-e-infermieri/
CATEGORIES:MEETING SERIES E CONGRESSI SEZIONI REGIONALI
END:VEVENT
END:VCALENDAR