BEGIN:VCALENDAR
VERSION:2.0
PRODID:-//Siaaic - ECPv6.2.0.1//NONSGML v1.0//EN
CALSCALE:GREGORIAN
METHOD:PUBLISH
X-ORIGINAL-URL:https://siaaic.org
X-WR-CALDESC:Eventi per Siaaic
REFRESH-INTERVAL;VALUE=DURATION:PT1H
X-Robots-Tag:noindex
X-PUBLISHED-TTL:PT1H
BEGIN:VTIMEZONE
TZID:Europe/Rome
BEGIN:DAYLIGHT
TZOFFSETFROM:+0100
TZOFFSETTO:+0200
TZNAME:CEST
DTSTART:20170326T010000
END:DAYLIGHT
BEGIN:STANDARD
TZOFFSETFROM:+0200
TZOFFSETTO:+0100
TZNAME:CET
DTSTART:20171029T010000
END:STANDARD
END:VTIMEZONE
BEGIN:VEVENT
DTSTART;VALUE=DATE:20171004
DTEND;VALUE=DATE:20171005
DTSTAMP:20260425T050015
CREATED:20170930T111605Z
LAST-MODIFIED:20170930T111605Z
UID:3476-1507075200-1507161599@siaaic.org
SUMMARY:Presentazione della Pubblicazione Gestione Appropriata dell’ Asma Grave
DESCRIPTION:Gestione Appropriata dell’ Asma Grave\nMercoledì\, 4 Ottobre alle ore 10.30\npresso la Sala Conferenze della Associazione della Stampa Estera in Italia \n 
URL:https://siaaic.org/event/presentazione-della-pubblicazione-gestione-appropriata-dell-asma-grave/
CATEGORIES:EVENTI NAZIONALI
END:VEVENT
BEGIN:VEVENT
DTSTART;VALUE=DATE:20171013
DTEND;VALUE=DATE:20171014
DTSTAMP:20260425T050015
CREATED:20170925T135857Z
LAST-MODIFIED:20170925T135857Z
UID:3410-1507852800-1507939199@siaaic.org
SUMMARY:Difficult Allergy Day
DESCRIPTION:CLICCA QUI per visualizzare il programma dell’evento \nN.B. Iscrizione gratuita per i Soci Junior!
URL:https://siaaic.org/event/difficult-allergy-day-2/
CATEGORIES:MEETING SERIES E CONGRESSI SEZIONI REGIONALI
END:VEVENT
BEGIN:VEVENT
DTSTART;VALUE=DATE:20171014
DTEND;VALUE=DATE:20171015
DTSTAMP:20260425T050015
CREATED:20170925T140128Z
LAST-MODIFIED:20170925T140128Z
UID:3414-1507939200-1508025599@siaaic.org
SUMMARY:Hot Topics in Allergologia ed Immunologia Clinica
DESCRIPTION:
URL:https://siaaic.org/event/hot-topics-in-allergologia-ed-immunologia-clinica/
CATEGORIES:MEETING SERIES E CONGRESSI SEZIONI REGIONALI
END:VEVENT
BEGIN:VEVENT
DTSTART;VALUE=DATE:20171014
DTEND;VALUE=DATE:20171015
DTSTAMP:20260425T050015
CREATED:20170925T140908Z
LAST-MODIFIED:20170925T140908Z
UID:3419-1507939200-1508025599@siaaic.org
SUMMARY:ASMA Un problema condiviso: una corretta gestione
DESCRIPTION:CLICCA QUI per scaricare il programma dell’evento
URL:https://siaaic.org/event/asma-un-problema-condiviso-una-corretta-gestione-2/
CATEGORIES:MEETING SERIES E CONGRESSI SEZIONI REGIONALI
END:VEVENT
BEGIN:VEVENT
DTSTART;VALUE=DATE:20171021
DTEND;VALUE=DATE:20171022
DTSTAMP:20260425T050015
CREATED:20170918T210725Z
LAST-MODIFIED:20170918T210725Z
UID:3376-1508544000-1508630399@siaaic.org
SUMMARY:Dalla rinite all’asma: appropriatezza diagnostica e nuove strategie terapeutiche
DESCRIPTION:CONGRESSO ALLERGOLOGIA \nSESSIONE I\nModeratori: Giselda Colombo\, Matteo Trimarchi\n08.45 Dalla rinite all’asma: introduzione al tema (Giselda Colombo)\n09.15 Valutazione della funzionalità polmonare: cardine dell’iter diagnostico nell’asma e diagnosi\ndifferenziale (Dejan Radovanovic)\n09.45 Ruolo dello specialista ORL nella diagnosi di rinosinusopatie e VCD (Matteo Trimarchi)\n10.15 Markers di flogosi utili per la caratterizzazione e diagnosi differenziale nelle rinosinusopatie e nell’asma ( Mona-Rita Yacoub\, Alvise Berti)\n10.45 Discussione \nSESSIONE II\nModeratori: Alberto Tedeschi\, Walter Canonica\n11.20 La valutazione pneumo-allergologica nella tosse cronica (Marcello Cottini)\n11.50 Terapia farmacologica di rinite e asma: dalle Linee Guida alla “real life” (Alberto Tedeschi)\n12.20 Medicina di Precisione e nuove terapie nella rinosinusite polipoide e asma severo (Walter Canonica)\n12.50 Discussione\n13.00 Pranzo \nSESSIONE III\nModeratori: Germano Bettoncelli\, Maria Teresa Costantino\n14.00 Immunoterapia con estratti allergenici: 1° esempio di trattamento personalizzato (Enrico Heffler)\n14.30 Rinite e asma in età pediatrica (Cristina Quecchia)\n15.00 La tecnologia nell’ambito della “Mobile Health” può aiutarci nella gestione dell’asma bronchiale? (Carlo Lombardi)\n15.30 Gestione del paziente asmatico: come creare un “link” fra gestione sul territorio e strutture specialistiche (Marco Caminati)\n16.00 Discussione\n16.30 Compilazione del questionario di apprendimento e chiusura dei lavori \n 
URL:https://siaaic.org/event/dalla-rinite-allasma-appropriatezza-diagnostica-e-nuove-strategie-terapeutiche/
CATEGORIES:EVENTI NAZIONALI,EVENTI SIAAIC,MEETING SERIES E CONGRESSI SEZIONI REGIONALI
END:VEVENT
BEGIN:VEVENT
DTSTART;VALUE=DATE:20171026
DTEND;VALUE=DATE:20171028
DTSTAMP:20260425T050015
CREATED:20170803T115900Z
LAST-MODIFIED:20170803T115900Z
UID:3315-1508976000-1509148799@siaaic.org
SUMMARY:VIII 'Mario Ricci' Immunology & Allergy SIAAIC School (IASS) e Farmaci Biologici nelle Malattie Immunomediate: una storia in evoluzione
DESCRIPTION:VIII ‘Mario Ricci’ Immunology & Allergy SIAAIC School (IASS): 26 ottobre 2017 presso Grand Hotel Baglioni\, piazza dell’Unità Italiana n. 6\, Firenze \nFarmaci Biologici nelle Malattie Immunomediate: una storia in evoluzione: 27 ottobre 2017 presso Auditorium CTO\, via Taddeo Alderotti n. 56\, Firenze \nCLICCA QUI per visualizzare la Locandina dell’evento \nCLICCA QUI per scaricare il programma dell’evento \nCLICCA QUI per scaricare la scheda d’iscrizione all’evento \n 
URL:https://siaaic.org/event/viii-mario-ricci-immunology-allergy-siaaic-school/
CATEGORIES:EVENTI SIAAIC
END:VEVENT
BEGIN:VEVENT
DTSTART;TZID=Europe/Rome:20171027T080000
DTEND;TZID=Europe/Rome:20171028T170000
DTSTAMP:20260425T050015
CREATED:20171024T162423Z
LAST-MODIFIED:20171024T162423Z
UID:3578-1509091200-1509210000@siaaic.org
SUMMARY:6th Italy-Israel Meeting on: ADVANCES IN AUTOIMMUNITY AND RHEUMATOLOGY
DESCRIPTION:Clicca qui per scaricare il programma
URL:https://siaaic.org/event/6th-italy-israel-meeting-on-advances-in-autoimmunity-and-rheumatology/
CATEGORIES:EVENTI NAZIONALI
ATTACH;FMTTYPE=:
END:VEVENT
BEGIN:VEVENT
DTSTART;VALUE=DATE:20171028
DTEND;VALUE=DATE:20171029
DTSTAMP:20260425T050015
CREATED:20170802T093543Z
LAST-MODIFIED:20170802T093543Z
UID:3279-1509148800-1509235199@siaaic.org
SUMMARY:SIAAIC Practice Focus On: Drug Allergy
DESCRIPTION:
URL:https://siaaic.org/event/siaaic-practice-focus-on-drug-allergy/
CATEGORIES:EVENTI SIAAIC
ATTACH;FMTTYPE=:
END:VEVENT
END:VCALENDAR