BEGIN:VCALENDAR
VERSION:2.0
PRODID:-//Siaaic - ECPv6.2.0.1//NONSGML v1.0//EN
CALSCALE:GREGORIAN
METHOD:PUBLISH
X-WR-CALNAME:Siaaic
X-ORIGINAL-URL:https://siaaic.org
X-WR-CALDESC:Eventi per Siaaic
REFRESH-INTERVAL;VALUE=DURATION:PT1H
X-Robots-Tag:noindex
X-PUBLISHED-TTL:PT1H
BEGIN:VTIMEZONE
TZID:Europe/Rome
BEGIN:DAYLIGHT
TZOFFSETFROM:+0100
TZOFFSETTO:+0200
TZNAME:CEST
DTSTART:20170326T010000
END:DAYLIGHT
BEGIN:STANDARD
TZOFFSETFROM:+0200
TZOFFSETTO:+0100
TZNAME:CET
DTSTART:20171029T010000
END:STANDARD
END:VTIMEZONE
BEGIN:VEVENT
DTSTART;TZID=Europe/Rome:20171104T080000
DTEND;TZID=Europe/Rome:20171104T170000
DTSTAMP:20260425T032619
CREATED:20170802T093639Z
LAST-MODIFIED:20170802T093639Z
UID:3292-1509782400-1509814800@siaaic.org
SUMMARY:SIAAIC Practice Focus On: Patch Test
DESCRIPTION:Il corso fornisce le nozioni di base e pratiche per una corretta esecuzione della metodica del patch test e per la lettura del risultato. I discenti saranno inoltre aggiornati sulle nuove serie di apteni utilizzabili.
URL:https://siaaic.org/event/siaaic-practice-focus-on-patch-test-2/
CATEGORIES:EVENTI SIAAIC
ATTACH;FMTTYPE=:
END:VEVENT
BEGIN:VEVENT
DTSTART;VALUE=DATE:20171109
DTEND;VALUE=DATE:20171110
DTSTAMP:20260425T032619
CREATED:20170919T094525Z
LAST-MODIFIED:20170919T094525Z
UID:3383-1510185600-1510271999@siaaic.org
SUMMARY:Gestione Appropriata dell’Asma Grave
DESCRIPTION:
URL:https://siaaic.org/event/gestione-appropriata-dellasma-grave/
CATEGORIES:EVENTI NAZIONALI
END:VEVENT
BEGIN:VEVENT
DTSTART;VALUE=DATE:20171110
DTEND;VALUE=DATE:20171112
DTSTAMP:20260425T032619
CREATED:20170803T122230Z
LAST-MODIFIED:20170803T122230Z
UID:3329-1510272000-1510444799@siaaic.org
SUMMARY:XXXIII Congresso Sezione SIAAIC Toscana I Congresso Sezione Toscana-Emilia Romagna e San Marino-Umbria e Marche
DESCRIPTION:Programma preliminare \nScheda iscrizione
URL:https://siaaic.org/event/xxxiii-congresso-sezione-siaaic-toscana-i-congresso-sezione-toscana-emilia-romagna-e-san-marino-umbria-e-marche/
CATEGORIES:MEETING SERIES E CONGRESSI SEZIONI REGIONALI
ATTACH;FMTTYPE=:
END:VEVENT
BEGIN:VEVENT
DTSTART;VALUE=DATE:20171111
DTEND;VALUE=DATE:20171112
DTSTAMP:20260425T032619
CREATED:20170925T141307Z
LAST-MODIFIED:20170925T141307Z
UID:3423-1510358400-1510444799@siaaic.org
SUMMARY:14° Franciacorta Allergy Symposium
DESCRIPTION:CLICCA QUI per visualizzare il programma dell’evento
URL:https://siaaic.org/event/14-franciacorta-allergy-symposium/
CATEGORIES:MEETING SERIES E CONGRESSI SEZIONI REGIONALI
END:VEVENT
BEGIN:VEVENT
DTSTART;VALUE=DATE:20171116
DTEND;VALUE=DATE:20171119
DTSTAMP:20260425T032619
CREATED:20171103T094318Z
LAST-MODIFIED:20171103T094318Z
UID:3614-1510790400-1511049599@siaaic.org
SUMMARY:HIGHLIGHTS in Allergy and Respiratory Diseases
DESCRIPTION:  \nProgramma scientifico \n  \nIscrizione gratuita al congresso per soci Junior Members. Per l’iscrizione inviare una e-mail all’indirizzo e.diana@ideacpa.com
URL:https://siaaic.org/event/highlights-in-allergy-and-respiratory-diseases-2/
END:VEVENT
BEGIN:VEVENT
DTSTART;VALUE=DATE:20171124
DTEND;VALUE=DATE:20171125
DTSTAMP:20260425T032619
CREATED:20170925T141915Z
LAST-MODIFIED:20170925T141915Z
UID:3427-1511481600-1511567999@siaaic.org
SUMMARY:6° ALLERGY UP - DATE IN PADUA
DESCRIPTION:CLICCA QUI per visualizzare il programma dell’evento
URL:https://siaaic.org/event/6-allergy-up-date-in-padua/
CATEGORIES:MEETING SERIES E CONGRESSI SEZIONI REGIONALI
END:VEVENT
BEGIN:VEVENT
DTSTART;VALUE=DATE:20171125
DTEND;VALUE=DATE:20171126
DTSTAMP:20260425T032619
CREATED:20171024T160118Z
LAST-MODIFIED:20171024T160118Z
UID:3563-1511568000-1511654399@siaaic.org
SUMMARY:Siaaic practice focus on: Drug Allergy
DESCRIPTION:CLICCA QUI per visualizzare il programma dell’evento
URL:https://siaaic.org/event/siaaic-practice-focus-on-drug-allergy-2/
CATEGORIES:EVENTI SIAAIC
ATTACH;FMTTYPE=:
END:VEVENT
END:VCALENDAR