BEGIN:VCALENDAR
VERSION:2.0
PRODID:-//Siaaic - ECPv6.2.0.1//NONSGML v1.0//EN
CALSCALE:GREGORIAN
METHOD:PUBLISH
X-ORIGINAL-URL:https://siaaic.org
X-WR-CALDESC:Eventi per Siaaic
REFRESH-INTERVAL;VALUE=DURATION:PT1H
X-Robots-Tag:noindex
X-PUBLISHED-TTL:PT1H
BEGIN:VTIMEZONE
TZID:Europe/Rome
BEGIN:DAYLIGHT
TZOFFSETFROM:+0100
TZOFFSETTO:+0200
TZNAME:CEST
DTSTART:20200329T010000
END:DAYLIGHT
BEGIN:STANDARD
TZOFFSETFROM:+0200
TZOFFSETTO:+0100
TZNAME:CET
DTSTART:20201025T010000
END:STANDARD
END:VTIMEZONE
BEGIN:VEVENT
DTSTART;VALUE=DATE:20200508
DTEND;VALUE=DATE:20200509
DTSTAMP:20260421T030545
CREATED:20200416T082244Z
LAST-MODIFIED:20200416T082244Z
UID:4812-1588896000-1588982399@siaaic.org
SUMMARY:L’allergologia e l’immunologia clinica ai tempi del corona virus” -  Valutazione della risposta immune nella malattia COVID 19 Prof. LORENZO COSMI
DESCRIPTION:
URL:https://siaaic.org/event/lallergologia-e-limmunologia-clinica-ai-tempi-del-corona-virus-valutazione-della-risposta-immune-nella-malattia-covid-19-prof-lorenzo-cosmi/
CATEGORIES:WEBINAR
END:VEVENT
BEGIN:VEVENT
DTSTART;VALUE=DATE:20200514
DTEND;VALUE=DATE:20200515
DTSTAMP:20260421T030545
CREATED:20200512T070648Z
LAST-MODIFIED:20200512T070648Z
UID:5212-1589414400-1589500799@siaaic.org
SUMMARY:ASMA E COVID-19 - La gestione del paziente allergico
DESCRIPTION:pdf ASMA e COVID-1_200507 linkato
URL:https://siaaic.org/event/asma-e-covid-19-la-gestione-del-paziente-allergico/
CATEGORIES:WEBINAR
END:VEVENT
BEGIN:VEVENT
DTSTART;VALUE=DATE:20200515
DTEND;VALUE=DATE:20200516
DTSTAMP:20260421T030545
CREATED:20200416T082340Z
LAST-MODIFIED:20200416T082340Z
UID:4814-1589500800-1589587199@siaaic.org
SUMMARY:L’allergologia e l’immunologia clinica ai tempi del corona virus” -  Indici predittivi nell'evoluzione della malattia COVID 19 PROF. A. MATUCCI e PROF.SSA A. VULTAGGIO
DESCRIPTION:
URL:https://siaaic.org/event/lallergologia-e-limmunologia-clinica-ai-tempi-del-corona-virus-indici-predittivi-nellevoluzione-della-malattia-covid-19-prof-a-matucci-e-prof-ssa-a-vultaggio/
CATEGORIES:WEBINAR
END:VEVENT
BEGIN:VEVENT
DTSTART;VALUE=DATE:20200522
DTEND;VALUE=DATE:20200523
DTSTAMP:20260421T030545
CREATED:20200416T082425Z
LAST-MODIFIED:20200416T082425Z
UID:4816-1590105600-1590191999@siaaic.org
SUMMARY:L’allergologia e l’immunologia clinica ai tempi del corona virus” -  La polmonite nell'ambito della patologia da COVID 19 	PROF. F. BLASI
DESCRIPTION:
URL:https://siaaic.org/event/lallergologia-e-limmunologia-clinica-ai-tempi-del-corona-virus-la-polmonite-nellambito-della-patologia-da-covid-19-prof-f-blasi/
CATEGORIES:WEBINAR
END:VEVENT
BEGIN:VEVENT
DTSTART;VALUE=DATE:20200522
DTEND;VALUE=DATE:20200523
DTSTAMP:20260421T030545
CREATED:20200416T082622Z
LAST-MODIFIED:20200416T082622Z
UID:4820-1590105600-1590191999@siaaic.org
SUMMARY:L’allergologia e l’immunologia clinica ai tempi del corona virus” -  La terapia intensiva e semi intensiva nella polmonite da Covid 19  PROF. A. VIANELLO
DESCRIPTION:
URL:https://siaaic.org/event/lallergologia-e-limmunologia-clinica-ai-tempi-del-corona-virus-la-terapia-intensiva-e-semi-intensiva-nella-polmonite-da-covid-19-prof-a-vianellotbd/
CATEGORIES:WEBINAR
END:VEVENT
BEGIN:VEVENT
DTSTART;VALUE=DATE:20200522
DTEND;VALUE=DATE:20200523
DTSTAMP:20260421T030545
CREATED:20200416T090407Z
LAST-MODIFIED:20200416T090407Z
UID:4825-1590105600-1590191999@siaaic.org
SUMMARY:L’allergologia e l’immunologia clinica ai tempi del corona virus” – La terapia intensiva e semi intensiva nella polmonite da Covid 19 PROF. A. VIANELLO
DESCRIPTION:
URL:https://siaaic.org/event/lallergologia-e-limmunologia-clinica-ai-tempi-del-corona-virus-la-terapia-intensiva-e-semi-intensiva-nella-polmonite-da-covid-19-prof-a-vianello/
CATEGORIES:WEBINAR
END:VEVENT
BEGIN:VEVENT
DTSTART;TZID=Europe/Rome:20200528T180000
DTEND;TZID=Europe/Rome:20200528T200000
DTSTAMP:20260421T030545
CREATED:20200525T082235Z
LAST-MODIFIED:20200525T082235Z
UID:5328-1590688800-1590696000@siaaic.org
SUMMARY:ASMA e COVID-19: la gestione del pazinete asmatico
DESCRIPTION:pdf ASMA e COVID-2_200517a
URL:https://siaaic.org/event/asma-e-covid-19-la-gestione-del-pazinete-asmatico/
CATEGORIES:WEBINAR
END:VEVENT
BEGIN:VEVENT
DTSTART;VALUE=DATE:20200529
DTEND;VALUE=DATE:20200530
DTSTAMP:20260421T030545
CREATED:20200416T082509Z
LAST-MODIFIED:20200416T082509Z
UID:4818-1590710400-1590796799@siaaic.org
SUMMARY:Covid -19 / Fase 2: la riorganizzazione degli ambulatori per l’Asma Grave - Prof. Vincenzo Patella
DESCRIPTION:
URL:https://siaaic.org/event/lallergologia-e-limmunologia-clinica-ai-tempi-del-corona-virus-la-terapia-immunologica-nella-malattia-covid-19-prof-c-lunardi/
CATEGORIES:WEBINAR
END:VEVENT
END:VCALENDAR