BEGIN:VCALENDAR
VERSION:2.0
PRODID:-//Siaaic - ECPv6.2.0.1//NONSGML v1.0//EN
CALSCALE:GREGORIAN
METHOD:PUBLISH
X-ORIGINAL-URL:https://siaaic.org
X-WR-CALDESC:Eventi per Siaaic
REFRESH-INTERVAL;VALUE=DURATION:PT1H
X-Robots-Tag:noindex
X-PUBLISHED-TTL:PT1H
BEGIN:VTIMEZONE
TZID:Europe/Rome
BEGIN:DAYLIGHT
TZOFFSETFROM:+0100
TZOFFSETTO:+0200
TZNAME:CEST
DTSTART:20210328T010000
END:DAYLIGHT
BEGIN:STANDARD
TZOFFSETFROM:+0200
TZOFFSETTO:+0100
TZNAME:CET
DTSTART:20211031T010000
END:STANDARD
END:VTIMEZONE
BEGIN:VEVENT
DTSTART;TZID=Europe/Rome:20210610T183000
DTEND;TZID=Europe/Rome:20210610T193000
DTSTAMP:20260419T220009
CREATED:20210603T082442Z
LAST-MODIFIED:20210603T082442Z
UID:6265-1623349800-1623353400@siaaic.org
SUMMARY:REAZIONI ALLERGICHE AL VACCINO ANTI-COVID-19
DESCRIPTION:
URL:https://siaaic.org/event/reazioni-allergiche-al-vaccino-anti-covid-19/
CATEGORIES:WEBINAR
ATTACH;FMTTYPE=:
END:VEVENT
BEGIN:VEVENT
DTSTART;TZID=Europe/Rome:20210617T180000
DTEND;TZID=Europe/Rome:20210617T190000
DTSTAMP:20260419T220009
CREATED:20210603T082541Z
LAST-MODIFIED:20210603T082541Z
UID:6268-1623952800-1623956400@siaaic.org
SUMMARY:ANAFILASSI IGE MEDIATA: CI SONO NUOVI ALLERGENI?
DESCRIPTION:
URL:https://siaaic.org/event/anafilassi-ige-mediata-ci-sono-nuovi-allergeni/
CATEGORIES:WEBINAR
ATTACH;FMTTYPE=:
END:VEVENT
BEGIN:VEVENT
DTSTART;TZID=Europe/Rome:20210624T180000
DTEND;TZID=Europe/Rome:20210624T190000
DTSTAMP:20260419T220009
CREATED:20210603T082701Z
LAST-MODIFIED:20210603T082701Z
UID:6270-1624557600-1624561200@siaaic.org
SUMMARY:ESOFAGITE EOSINOFILA\, DALLA DIAGNOSI ALLA TERAPIA
DESCRIPTION:
URL:https://siaaic.org/event/esofagite-eosinofila-dalla-diagnosi-alla-terapia/
CATEGORIES:WEBINAR
ATTACH;FMTTYPE=:
END:VEVENT
BEGIN:VEVENT
DTSTART;TZID=Europe/Rome:20210625T180000
DTEND;TZID=Europe/Rome:20210625T193000
DTSTAMP:20260419T220009
CREATED:20210608T083539Z
LAST-MODIFIED:20210608T083539Z
UID:6299-1624644000-1624649400@siaaic.org
SUMMARY:UPDATE SULLA RISPOSTA IMMUNE AL VACCINO NEI SOGGETTI SANI E NELLE PATOLOGIE AUTOIMMUNI
DESCRIPTION:
URL:https://siaaic.org/event/update-sulla-risposta-immune-al-vaccino-nei-soggetti-sani-e-nelle-patologie-autoimmuni/
CATEGORIES:WEBINAR
ATTACH;FMTTYPE=:
END:VEVENT
END:VCALENDAR